BEGIN:VCALENDAR
VERSION:2.0
PRODID:-//AudioTheme 2.3.8
BEGIN:VEVENT
UID:urn:uuid:0a2861bb-0fd2-48cd-8f8c-fcf415e643a8
URL:https://www.ibrahimmaalouf.com/shows/theatre-femina/
DTSTART;TZID=GMT:20211109T193000
SUMMARY:Théâtre Femina
DESCRIPTION:Quelques Mélodies...
LOCATION:Théâtre Femina\, 10 Rue de Grassi\, Bordeaux\, \, 33000
END:VEVENT
END:VCALENDAR
